BEGIN:VCALENDAR
VERSION:2.0
PRODID:-//Equitables Comerç Just - ECPv4.4.5//NONSGML v1.0//EN
CALSCALE:GREGORIAN
METHOD:PUBLISH
X-WR-CALNAME:Equitables Comerç Just
X-ORIGINAL-URL:https://equitables.org
X-WR-CALDESC:Events for Equitables Comerç Just
BEGIN:VEVENT
DTSTART;TZID=UTC+0:20211218T120000
DTEND;TZID=UTC+0:20211218T130000
DTSTAMP:20260422T124402
CREATED:20211129T170957Z
LAST-MODIFIED:20211129T170957Z
UID:2035-1639828800-1639832400@equitables.org
SUMMARY:Actuació musical Jaume Tugores i xocolatada de comerç just
DESCRIPTION:
URL:https://equitables.org/event/actuacio-musical-jaume-tugores-i-xocolatada-de-comerc-just/
LOCATION:Carrer d'Anníbal\, 9A\, Palma\, Illes Balears\, 07013\, España
END:VEVENT
END:VCALENDAR