BEGIN:VCALENDAR
VERSION:2.0
PRODID:-//Equitables Comerç Just - ECPv4.4.5//NONSGML v1.0//EN
CALSCALE:GREGORIAN
METHOD:PUBLISH
X-WR-CALNAME:Equitables Comerç Just
X-ORIGINAL-URL:https://equitables.org
X-WR-CALDESC:Events for Equitables Comerç Just
BEGIN:VEVENT
DTSTART;TZID=UTC+0:20211218T000000
DTEND;TZID=UTC+0:20211218T010000
DTSTAMP:20260422T140604
CREATED:20211129T171236Z
LAST-MODIFIED:20211129T171236Z
UID:2038-1639785600-1639789200@equitables.org
SUMMARY:Actuació Two Moons
DESCRIPTION:
URL:https://equitables.org/event/actuacio-two-moons/
LOCATION:Carrer de Sa Carnisseria\, 20\, Ciutadella\, Illes Balears\, 07760\, España
END:VEVENT
END:VCALENDAR