BEGIN:VCALENDAR
VERSION:2.0
PRODID:-//Equitables Comerç Just - ECPv4.4.5//NONSGML v1.0//EN
CALSCALE:GREGORIAN
METHOD:PUBLISH
X-WR-CALNAME:Equitables Comerç Just
X-ORIGINAL-URL:https://equitables.org
X-WR-CALDESC:Events for Equitables Comerç Just
BEGIN:VEVENT
DTSTART;TZID=UTC+0:20211211T180000
DTEND;TZID=UTC+0:20211211T190000
DTSTAMP:20260422T170419
CREATED:20211129T140450Z
LAST-MODIFIED:20211129T140615Z
UID:2011-1639245600-1639249200@equitables.org
SUMMARY:Com continua
DESCRIPTION:Clown improvisat amb Té a Tres Teatre
URL:https://equitables.org/event/com-continua/
LOCATION:Carrer Fra Joan Garau\, 2\, Llucmajor\, Illes Balears\, 07620\, España
ATTACH;FMTTYPE=image/jpeg:https://equitables.org/wp-content/uploads/2021/11/ComContinuaPost2.jpg
END:VEVENT
END:VCALENDAR