BEGIN:VCALENDAR
VERSION:2.0
PRODID:-//Equitables Comerç Just - ECPv4.4.5//NONSGML v1.0//EN
CALSCALE:GREGORIAN
METHOD:PUBLISH
X-WR-CALNAME:Equitables Comerç Just
X-ORIGINAL-URL:https://equitables.org
X-WR-CALDESC:Events for Equitables Comerç Just
BEGIN:VEVENT
DTSTART;TZID=UTC+0:20211217T190000
DTEND;TZID=UTC+0:20211217T200000
DTSTAMP:20260422T140249
CREATED:20211129T165755Z
LAST-MODIFIED:20211129T165755Z
UID:2025-1639767600-1639771200@equitables.org
SUMMARY:Contacontes amb Maria Borràs i xocolatada de comerç just
DESCRIPTION:
URL:https://equitables.org/event/contacontes-amb-maria-borras-i-xocolatada-de-comerc-just/
END:VEVENT
END:VCALENDAR