BEGIN:VCALENDAR
VERSION:2.0
PRODID:-//Equitables Comerç Just - ECPv4.4.5//NONSGML v1.0//EN
CALSCALE:GREGORIAN
METHOD:PUBLISH
X-WR-CALNAME:Equitables Comerç Just
X-ORIGINAL-URL:https://equitables.org
X-WR-CALDESC:Events for Equitables Comerç Just
BEGIN:VEVENT
DTSTART;TZID=UTC+0:20211222T170000
DTEND;TZID=UTC+0:20211222T180000
DTSTAMP:20260422T123633
CREATED:20211129T171716Z
LAST-MODIFIED:20211129T171716Z
UID:2041-1640192400-1640196000@equitables.org
SUMMARY:Contacontes: Babuixka i degustació de xocolata de Comerç Just
DESCRIPTION:
URL:https://equitables.org/event/contacontes-babuixka-i-degustacio-de-xocolata-de-comerc-just/
LOCATION:c/ Rectoría de la Parroquia Plaça Sant Bartomeu\, 1\, Ses Salines\, Illes Balears\, España
END:VEVENT
END:VCALENDAR