BEGIN:VCALENDAR
VERSION:2.0
PRODID:-//Equitables Comerç Just - ECPv4.4.5//NONSGML v1.0//EN
CALSCALE:GREGORIAN
METHOD:PUBLISH
X-WR-CALNAME:Equitables Comerç Just
X-ORIGINAL-URL:https://equitables.org
X-WR-CALDESC:Events for Equitables Comerç Just
BEGIN:VEVENT
DTSTART;TZID=UTC+0:20220528T110000
DTEND;TZID=UTC+0:20220528T110000
DTSTAMP:20260422T092600
CREATED:20220512T124039Z
LAST-MODIFIED:20220512T124059Z
UID:2957-1653735600-1653735600@equitables.org
SUMMARY:Contes per canviar el món
DESCRIPTION:Contacontes i ludoteca a càrrec de Shikamoo.\n\nEntrada gratuïta amb inscripció a shikamoojust@gmail.com o per whatsApp al 601 906404.\n\nAmb el suport de la Direcció General de Cooperació.
URL:https://equitables.org/event/contes-per-canviar-el-mon/
LOCATION:Carrer Fra Joan Garau\, 2\, Llucmajor\, Illes Balears\, 07620
ATTACH;FMTTYPE=image/jpeg:https://equitables.org/wp-content/uploads/2022/05/contesPerCanviarElmonPost.jpg
END:VEVENT
END:VCALENDAR