BEGIN:VCALENDAR
VERSION:2.0
PRODID:-//Equitables Comerç Just - ECPv4.4.5//NONSGML v1.0//EN
CALSCALE:GREGORIAN
METHOD:PUBLISH
X-WR-CALNAME:Equitables Comerç Just
X-ORIGINAL-URL:https://equitables.org
X-WR-CALDESC:Events for Equitables Comerç Just
BEGIN:VEVENT
DTSTART;TZID=UTC+0:20211217T170000
DTEND;TZID=UTC+0:20211217T180000
DTSTAMP:20260422T140620
CREATED:20211129T141144Z
LAST-MODIFIED:20211129T165010Z
UID:2019-1639760400-1639764000@equitables.org
SUMMARY:Degustació de xocolata de Comerç Just
DESCRIPTION:
URL:https://equitables.org/event/degustacio-de-xocolata-de-comerc-just/
LOCATION:Plaça Major\, 31\, Santanyí\, Illes Balears\, 07650\, España
END:VEVENT
END:VCALENDAR