BEGIN:VCALENDAR
VERSION:2.0
PRODID:-//Equitables Comerç Just - ECPv4.4.5//NONSGML v1.0//EN
CALSCALE:GREGORIAN
METHOD:PUBLISH
X-WR-CALNAME:Equitables Comerç Just
X-ORIGINAL-URL:https://equitables.org
X-WR-CALDESC:Events for Equitables Comerç Just
BEGIN:VEVENT
DTSTART;TZID=UTC+0:20211223T110000
DTEND;TZID=UTC+0:20211223T120000
DTSTAMP:20260421T145803
CREATED:20211129T172427Z
LAST-MODIFIED:20211129T172513Z
UID:2048-1640257200-1640260800@equitables.org
SUMMARY:"Fàst-tick" amb Ovnipresents
DESCRIPTION:Microteatre de Comerç Just que tracta sobre la Fast-Fashion
URL:https://equitables.org/event/fast-tick-amb-ovnipresents/
LOCATION:Plaça Espanya\, Llucmajor\, Illes Balears\, 07620\, España
ATTACH;FMTTYPE=image/jpeg:https://equitables.org/wp-content/uploads/2021/11/FasttickPost-scaled.jpg
END:VEVENT
END:VCALENDAR