BEGIN:VCALENDAR
VERSION:2.0
PRODID:-//Equitables Comerç Just - ECPv4.4.5//NONSGML v1.0//EN
CALSCALE:GREGORIAN
METHOD:PUBLISH
X-WR-CALNAME:Equitables Comerç Just
X-ORIGINAL-URL:https://equitables.org
X-WR-CALDESC:Events for Equitables Comerç Just
BEGIN:VEVENT
DTSTART;TZID=UTC+0:20211210T190000
DTEND;TZID=UTC+0:20211210T200000
DTSTAMP:20260422T192503
CREATED:20211129T135852Z
LAST-MODIFIED:20211129T135852Z
UID:2007-1639162800-1639166400@equitables.org
SUMMARY:Martha Zein (activitat amb cacau)
DESCRIPTION:
URL:https://equitables.org/event/martha-zein-activitat-amb-cacau/
LOCATION:Plaça de la Porta de Santa Catalina\, 10\, Palma\, Illes Balears\, 07012\, España
END:VEVENT
END:VCALENDAR