BEGIN:VCALENDAR
VERSION:2.0
PRODID:-//Equitables Comerç Just - ECPv4.4.5//NONSGML v1.0//EN
CALSCALE:GREGORIAN
METHOD:PUBLISH
X-WR-CALNAME:Equitables Comerç Just
X-ORIGINAL-URL:https://equitables.org
X-WR-CALDESC:Events for Equitables Comerç Just
BEGIN:VEVENT
DTSTART;TZID=UTC+0:20211218T113000
DTEND;TZID=UTC+0:20211218T123000
DTSTAMP:20260422T124030
CREATED:20211129T170631Z
LAST-MODIFIED:20211129T170631Z
UID:2033-1639827000-1639830600@equitables.org
SUMMARY:Taller i degustació de galetes nadalenques de comerç just
DESCRIPTION:
URL:https://equitables.org/event/taller-i-degustacio-de-galetes-nadalenques-de-comerc-just/
LOCATION:Carrer den Bosch\, 12\, Manacor\, Illes Balears\, 07500\, España
END:VEVENT
END:VCALENDAR