BEGIN:VCALENDAR
VERSION:2.0
PRODID:-//Equitables Comerç Just - ECPv4.4.5//NONSGML v1.0//EN
CALSCALE:GREGORIAN
METHOD:PUBLISH
X-WR-CALNAME:Equitables Comerç Just
X-ORIGINAL-URL:https://equitables.org
X-WR-CALDESC:Events for Equitables Comerç Just
BEGIN:VEVENT
DTSTART;TZID=UTC+0:20211210T170000
DTEND;TZID=UTC+0:20211210T180000
DTSTAMP:20260424T084346
CREATED:20211129T133834Z
LAST-MODIFIED:20211129T135015Z
UID:1995-1639155600-1639159200@equitables.org
SUMMARY:Xocolatada de Comerç Just
DESCRIPTION:
URL:https://equitables.org/event/xocolatada-de-comerc-just/
LOCATION:Plaça de la Porta de Santa Catalina\, 10\, Palma\, Illes Balears\, 07012\, España
END:VEVENT
END:VCALENDAR